BEGIN:VCALENDAR
VERSION:2.0
PRODID:-//San Francisco Transit Riders - ECPv6.15.17//NONSGML v1.0//EN
CALSCALE:GREGORIAN
METHOD:PUBLISH
X-WR-CALNAME:San Francisco Transit Riders
X-ORIGINAL-URL:https://sftransitriders.org
X-WR-CALDESC:Events for San Francisco Transit Riders
REFRESH-INTERVAL;VALUE=DURATION:PT1H
X-Robots-Tag:noindex
X-PUBLISHED-TTL:PT1H
BEGIN:VTIMEZONE
TZID:America/Los_Angeles
BEGIN:DAYLIGHT
TZOFFSETFROM:-0800
TZOFFSETTO:-0700
TZNAME:PDT
DTSTART:20220313T100000
END:DAYLIGHT
BEGIN:STANDARD
TZOFFSETFROM:-0700
TZOFFSETTO:-0800
TZNAME:PST
DTSTART:20221106T090000
END:STANDARD
BEGIN:DAYLIGHT
TZOFFSETFROM:-0800
TZOFFSETTO:-0700
TZNAME:PDT
DTSTART:20230312T100000
END:DAYLIGHT
BEGIN:STANDARD
TZOFFSETFROM:-0700
TZOFFSETTO:-0800
TZNAME:PST
DTSTART:20231105T090000
END:STANDARD
BEGIN:DAYLIGHT
TZOFFSETFROM:-0800
TZOFFSETTO:-0700
TZNAME:PDT
DTSTART:20240310T100000
END:DAYLIGHT
BEGIN:STANDARD
TZOFFSETFROM:-0700
TZOFFSETTO:-0800
TZNAME:PST
DTSTART:20241103T090000
END:STANDARD
END:VTIMEZONE
BEGIN:VEVENT
DTSTART;TZID=America/Los_Angeles:20230830T110000
DTEND;TZID=America/Los_Angeles:20230830T140000
DTSTAMP:20260424T084552
CREATED:20230929T030042Z
LAST-MODIFIED:20230914T211321Z
UID:6505-1693393200-1693404000@sftransitriders.org
SUMMARY:Biking\, Birds\, and BART | Fruitvale to San Leandro
DESCRIPTION:Enjoy a flat\, family-friendly ride along Oakland’s Martin Luther King Shoreline. Explore the Bay Trail and learn about the birds that live in this coastal habitat. Continue to Drake’s in San Leandro for post-ride snacks and brews outside. The event will be transit accessible\, beginning at the Fruitvale BART station and ending near the San Leandro station. You can view the route here.
URL:https://sftransitriders.org/event/antioch-ebart-to-mokelumne-trail-bridge-bike-ride/
LOCATION:Fruitvale BART Station\, 3401 E 12th St\, Oakland\, CA\, 94601\, United States
CATEGORIES:Events,Transit Month
END:VEVENT
END:VCALENDAR